Workbook

Sheet НОО 1 полугодие
A1: Приложение к приказу № 01-05/ 85 от 29.08.2025 г. ГРАФИК оценочных процедур на 2025/2026 учебный год НАЧАЛЬНОЕ ОБЩЕЕ ОБРАЗОВАНИЕ I полугодие
A2: Период проведения оценочной процедуры | B2: Сентябрь | E2: Октябрь | H2: Ноябрь | K2: Декабрь | N2: Всего
B3: Федеральные оценочные процедуры | C3: Оценочные процедуры по инициативе ОО (стартовая диагностика) | D3: Всего | E3: Федеральные оценочные процедуры | F3: Оценочные процедуры по инициативе ОО | G3: Всего | H3: Федеральные оценочные процедуры | I3: Оценочные процедуры по инициативе ОО | J3: Всего | K3: Федеральные оценочные процедуры | L3: Оценочные процедуры по инициативе ОО | M3: Всего | N3: В I полугодии 2025-2026 учебного года
A4: 4 классы
A5: Русский язык | C5: 2 | D5: 2 | F5: 1 | G5: 1 | I5: 2 | J5: 2 | L5: 2 | M5: 2 | N5: 7
A6: Литературное чтение | C6: 1 | D6: 1 | F6: 1 | G6: 1 | I6: 1 | J6: 1 | L6: 1 | M6: 1 | N6: 4
A7: Иностранный язык (английский) | C7: 1 | D7: 1 | F7: 1 | G7: 1 | I7: 0 | J7: 0 | L7: 0 | M7: 0 | N7: 2
A8: Математика | C8: 1 | D8: 1 | F8: 2 | G8: 2 | I8: 1 | J8: 1 | L8: 1 | M8: 1 | N8: 5
A9: Окружающий мир | C9: 1 | D9: 1 | F9: 0 | G9: 0 | I9: 1 | J9: 1 | L9: 1 | M9: 1 | N9: 3
A10: Труд (технология) | C10: 1 | D10: 1 | F10: 0 | G10: 0 | I10: 0 | J10: 0 | L10: 1 | M10: 1 | N10: 2
A11: Изобразительное искусство | C11: 1 | D11: 1 | F11: 0 | G11: 0 | I11: 0 | J11: 0 | L11: 1 | M11: 1 | N11: 2
A12: Музыка | C12: 1 | D12: 1 | F12: 0 | G12: 0 | I12: 0 | J12: 0 | L12: 1 | M12: 1 | N12: 2
A13: Физическая культура | C13: 1 | D13: 1 | F13: 0 | G13: 0 | I13: 0 | J13: 0 | L13: 0 | M13: 0 | N13: 1
A14: ОРКСЭ | C14: 1 | D14: 1 | F14: 0 | G14: 0 | I14: 0 | J14: 0 | L14: 1 | M14: 1 | N14: 2

Sheet НОО 2 полугодие
A1: ГРАФИК оценочных процедур на 2025/2026 учебный год НАЧАЛЬНОЕ ОБЩЕЕ ОБРАЗОВАНИЕ II полугодие
A2: Период проведения оценочной процедуры | B2: Январь | E2: Февраль | H2: Март | K2: Апрель | N2: Май | Q2: Всего
B3: Федеральные оценочные процедуры | C3: Оценочные процедуры по инициативе ОО | D3: Всего | E3: Федеральные оценочные процедуры | F3: Оценочные процедуры по инициативе ОО | G3: Всего | H3: Федеральные оценочные процедуры | I3: Оценочные процедуры по инициативе ОО | J3: Всего | K3: Федеральные оценочные процедуры | L3: Оценочные процедуры по инициативе ОО | M3: Всего | N3: Федеральные оценочные процедуры | O3: Оценочные процедуры по инициативе ОО | P3: Всего | Q3: Во II полугодии 2025-2026 учебного года | R3: Всего оценочных процедур за 2025-2026 учебный год | S3: Кол-во часов по учебному плану | T3: Процентное соотношение кол-ва оценочных процедур к кол-ву часов УП, в %
A4: 4 классы
A5: Русский язык | C5: 1 | D5: 1 | F5: 1 | G5: 1 | I5: 1 | J5: 1 | K5: 1 | L5: 1 | M5: 2 | O5: 2 | P5: 2 | Q5: 7 | R5: =Q5+'НОО 1 полугодие'!N5 -> 14 | S5: 170 | T5: =R5/S5 -> 0.082352941
A6: Литературное чтение | C6: 1 | D6: 1 | F6: 1 | G6: 1 | I6: 1 | J6: 1 | K6: 1 | M6: 1 | O6: 1 | P6: 1 | Q6: 4 | R6: =Q6+'НОО 1 полугодие'!N6 -> 8 | S6: 136 | T6: =R6/S6 -> 0.058823529
A7: Иностранный язык (английский) | C7: 0 | D7: 0 | F7: 1 | G7: 1 | I7: 0 | J7: 0 | K7: 1 | M7: 1 | O7: 0 | P7: 0 | Q7: 2 | R7: =Q7+'НОО 1 полугодие'!N7 -> 4 | S7: 68 | T7: =R7/S7 -> 0.058823529
A8: Математика | C8: 1 | D8: 1 | F8: 2 | G8: 2 | I8: 2 | J8: 2 | K8: 1 | L8: 1 | M8: 2 | O8: 1 | P8: 1 | Q8: 8 | R8: =Q8+'НОО 1 полугодие'!N8 -> 13 | S8: 136 | T8: =R8/S8 -> 0.095588235
A9: Окружающий мир | C9: 0 | D9: 0 | F9: 1 | G9: 1 | I9: 0 | J9: 0 | K9: 1 | M9: 1 | O9: 1 | P9: 1 | Q9: 3 | R9: =Q9+'НОО 1 полугодие'!N9 -> 6 | S9: 68 | T9: =R9/S9 -> 0.088235294
A10: Труд (технология) | C10: 0 | D10: 0 | F10: 0 | G10: 0 | I10: 0 | J10: 0 | L10: 1 | M10: 1 | O10: 0 | P10: 0 | Q10: 1 | R10: =Q10+'НОО 1 полугодие'!N10 -> 3 | S10: 34 | T10: =R10/S10 -> 0.088235294
A11: Изобразительное искусство | C11: 0 | D11: 0 | F11: 0 | G11: 0 | I11: 0 | J11: 0 | L11: 1 | M11: 1 | O11: 0 | P11: 0 | Q11: 1 | R11: =Q11+'НОО 1 полугодие'!N11 -> 3 | S11: 34 | T11: =R11/S11 -> 0.088235294
A12: Музыка | C12: 0 | D12: 0 | F12: 0 | G12: 0 | I12: 0 | J12: 0 | L12: 1 | M12: 1 | O12: 0 | P12: 0 | Q12: 1 | R12: =Q12+'НОО 1 полугодие'!N12 -> 3 | S12: 34 | T12: =R12/S12 -> 0.088235294
A13: Физическая культура | C13: 0 | D13: 0 | F13: 0 | G13: 0 | I13: 0 | J13: 0 | L13: 0 | M13: 0 | O13: 1 | P13: 1 | Q13: 1 | R13: =Q13+'НОО 1 полугодие'!N13 -> 2 | S13: 68 | T13: =R13/S13 -> 0.029411765
A14: ОРКСЭ | C14: 0 | D14: 0 | F14: 0 | G14: 0 | I14: 0 | J14: 0 | L14: 0 | M14: 0 | O14: 0 | P14: 1 | Q14: 1 | R14: =Q14+'НОО 1 полугодие'!N14 -> 3 | S14: 34 | T14: =R14/S14 -> 0.088235294

Sheet ООО 1 полугодие
A1: ГРАФИК оценочных процедур на 2025/2026 учебный год ОСНОВНОЕ ОБЩЕЕ ОБРАЗОВАНИЕ I полугодие
A2: Период проведения оценочной процедуры | B2: Сентябрь | E2: Октябрь | H2: Ноябрь | K2: Декабрь | N2: Всего
B3: Федеральные оценочные процедуры | C3: Оценочные процедуры по инициативе ОО (стартовая диагностика) | D3: Всего | E3: Федеральные оценочные процедуры | F3: Оценочные процедуры по инициативе ОО | G3: Всего | H3: Федеральные оценочные процедуры | I3: Оценочные процедуры по инициативе ОО | J3: Всего | K3: Федеральные оценочные процедуры | L3: Оценочные процедуры по инициативе ОО | M3: Всего | N3: В I полугодии 2025-2026 учебного года
A4: 5 классы
A5: Русский язык | C5: 1 | D5: =B5+C5 -> 1 | F5: 1 | G5: =E5+F5 -> 1 | I5: 1 | J5: =H5+I5 -> 1 | L5: 2 | M5: =K5+L5 -> 2 | N5: =D5+G5+J5+M5 -> 5
A6: Литература | C6: 1 | D6: =B6+C6 -> 1 | G6: =E6+F6 -> 0 | J6: =H6+I6 -> 0 | L6: 1 | M6: =K6+L6 -> 1 | N6: =D6+G6+J6+M6 -> 2
A7: Иностранный язык (английский) | C7: 1 | D7: =B7+C7 -> 1 | F7: 1 | G7: =E7+F7 -> 1 | I7: 1 | J7: =H7+I7 -> 1 | L7: 2 | M7: =K7+L7 -> 2 | N7: =D7+G7+J7+M7 -> 5 | O7: к.р. по КТП
A8: Математика | C8: 1 | D8: =B8+C8 -> 1 | F8: 1 | G8: =E8+F8 -> 1 | I8: 2 | J8: =H8+I8 -> 2 | L8: 1 | M8: =K8+L8 -> 1 | N8: =D8+G8+J8+M8 -> 5
A9: История | C9: 1 | D9: =B9+C9 -> 1 | G9: =E9+F9 -> 0 | J9: =H9+I9 -> 0 | M9: =K9+L9 -> 0 | N9: =D9+G9+J9+M9 -> 1
A10: География | C10: 1 | D10: =B10+C10 -> 1 | G10: =E10+F10 -> 0 | J10: =H10+I10 -> 0 | M10: =K10+L10 -> 0 | N10: =D10+G10+J10+M10 -> 1
A11: Биология | C11: 1 | D11: =B11+C11 -> 1 | G11: =E11+F11 -> 0 | J11: =H11+I11 -> 0 | M11: =K11+L11 -> 0 | N11: =D11+G11+J11+M11 -> 1
A12: Труд (технология) | C12: 1 | D12: =B12+C12 -> 1 | G12: =E12+F12 -> 0 | J12: =H12+I12 -> 0 | M12: =K12+L12 -> 0 | N12: =D12+G12+J12+M12 -> 1
A13: Изобразительное искусство | C13: 1 | D13: =B13+C13 -> 1 | G13: =E13+F13 -> 0 | J13: =H13+I13 -> 0 | M13: =K13+L13 -> 0 | N13: =D13+G13+J13+M13 -> 1
A14: Музыка | C14: 1 | D14: =B14+C14 -> 1 | G14: =E14+F14 -> 0 | J14: =H14+I14 -> 0 | M14: =K14+L14 -> 0 | N14: =D14+G14+J14+M14 -> 1
A15: Физическая культура | C15: 1 | D15: =B15+C15 -> 1 | G15: =E15+F15 -> 0 | J15: =H15+I15 -> 0 | M15: =K15+L15 -> 0 | N15: =D15+G15+J15+M15 -> 1
A16: 6 классы
A17: Русский язык | C17: 1 | D17: =B17+C17 -> 1 | F17: 1 | G17: =E17+F17 -> 1 | I17: 2 | J17: =H17+I17 -> 2 | L17: 2 | M17: =K17+L17 -> 2 | N17: =D17+G17+J17+M17 -> 6
A18: Литература | D18: =B18+C18 -> 0 | G18: =E18+F18 -> 0 | J18: =H18+I18 -> 0 | L18: 1 | M18: =K18+L18 -> 1 | N18: =D18+G18+J18+M18 -> 1
A19: Иностранный язык (английский) | D19: =B19+C19 -> 0 | F19: 2 | G19: =E19+F19 -> 2 | I19: 1 | J19: =H19+I19 -> 1 | L19: 2 | M19: =K19+L19 -> 2 | N19: =D19+G19+J19+M19 -> 5
A20: Математика | D20: =B20+C20 -> 0 | F20: 1 | G20: =E20+F20 -> 1 | I20: 1 | J20: =H20+I20 -> 1 | L20: 2 | M20: =K20+L20 -> 2 | N20: =D20+G20+J20+M20 -> 4
A21: История | D21: =B21+C21 -> 0 | G21: =E21+F21 -> 0 | J21: =H21+I21 -> 0 | M21: =K21+L21 -> 0 | N21: =D21+G21+J21+M21 -> 0
A22: География | D22: =B22+C22 -> 0 | G22: =E22+F22 -> 0 | J22: =H22+I22 -> 0 | M22: =K22+L22 -> 0 | N22: =D22+G22+J22+M22 -> 0
A23: Биология | D23: =B23+C23 -> 0 | G23: =E23+F23 -> 0 | J23: =H23+I23 -> 0 | M23: =K23+L23 -> 0 | N23: =D23+G23+J23+M23 -> 0
A24: Труд (технология) | D24: =B24+C24 -> 0 | G24: =E24+F24 -> 0 | J24: =H24+I24 -> 0 | M24: =K24+L24 -> 0 | N24: =D24+G24+J24+M24 -> 0
A25: Изобразительное искусство | D25: =B25+C25 -> 0 | G25: =E25+F25 -> 0 | J25: =H25+I25 -> 0 | M25: =K25+L25 -> 0 | N25: =D25+G25+J25+M25 -> 0
A26: Музыка | D26: =B26+C26 -> 0 | G26: =E26+F26 -> 0 | J26: =H26+I26 -> 0 | M26: =K26+L26 -> 0 | N26: =D26+G26+J26+M26 -> 0
A27: Физическая культура | D27: =B27+C27 -> 0 | G27: =E27+F27 -> 0 | J27: =H27+I27 -> 0 | M27: =K27+L27 -> 0 | N27: =D27+G27+J27+M27 -> 0
A28: 7 классы
A29: Русский язык | C29: 2 | D29: =B29+C29 -> 2 | F29: 2 | G29: =E29+F29 -> 2 | I29: 2 | J29: =H29+I29 -> 2 | L29: 2 | M29: =K29+L29 -> 2 | N29: =D29+G29+J29+M29 -> 8
A30: Литература | D30: =B30+C30 -> 0 | G30: =E30+F30 -> 0 | J30: =H30+I30 -> 0 | M30: =K30+L30 -> 0 | N30: =D30+G30+J30+M30 -> 0
A31: Иностранный язык (английский) | C31: 1 | D31: =B31+C31 -> 1 | F31: 1 | G31: =E31+F31 -> 1 | I31: 2 | J31: =H31+I31 -> 2 | L31: 1 | M31: =K31+L31 -> 1 | N31: =D31+G31+J31+M31 -> 5 | O31: к.р. по КТП
A32: Алгебра | D32: =B32+C32 -> 0 | G32: =E32+F32 -> 0 | I32: 1 | J32: =H32+I32 -> 1 | M32: =K32+L32 -> 0 | N32: =D32+G32+J32+M32 -> 1
A33: Геометрия | D33: =B33+C33 -> 0 | G33: =E33+F33 -> 0 | J33: =H33+I33 -> 0 | M33: =K33+L33 -> 0 | N33: =D33+G33+J33+M33 -> 0
A34: Вероятность и статистика | D34: =B34+C34 -> 0 | G34: =E34+F34 -> 0 | J34: =H34+I34 -> 0 | L34: 1 | M34: =K34+L34 -> 1 | N34: =D34+G34+J34+M34 -> 1
A35: История | D35: =B35+C35 -> 0 | G35: =E35+F35 -> 0 | J35: =H35+I35 -> 0 | M35: =K35+L35 -> 0 | N35: =D35+G35+J35+M35 -> 0
A36: География | D36: =B36+C36 -> 0 | G36: =E36+F36 -> 0 | J36: =H36+I36 -> 0 | M36: =K36+L36 -> 0 | N36: =D36+G36+J36+M36 -> 0
A37: Биология | D37: =B37+C37 -> 0 | G37: =E37+F37 -> 0 | J37: =H37+I37 -> 0 | M37: =K37+L37 -> 0 | N37: =D37+G37+J37+M37 -> 0
A38: Труд (технология) | D38: =B38+C38 -> 0 | G38: =E38+F38 -> 0 | J38: =H38+I38 -> 0 | M38: =K38+L38 -> 0 | N38: =D38+G38+J38+M38 -> 0
A39: Информатика | D39: =B39+C39 -> 0 | G39: =E39+F39 -> 0 | J39: =H39+I39 -> 0 | M39: =K39+L39 -> 0 | N39: =D39+G39+J39+M39 -> 0
A40: Физика | C40: 1 | D40: =B40+C40 -> 1 | G40: =E40+F40 -> 0 | J40: =H40+I40 -> 0 | L40: 1 | M40: =K40+L40 -> 1 | N40: =D40+G40+J40+M40 -> 2
...

Sheet ООО 2 полугодие
A1: ГРАФИК оценочных процедур на 2025/2026 учебный год ОСНОВНОЕ ОБЩЕЕ ОБРАЗОВАНИЕ II полугодие
A2: Период проведения оценочной процедуры | B2: Январь | E2: Февраль | H2: Март | K2: Апрель | N2: Май | Q2: Всего
B3: Федеральные оценочные процедуры | C3: Оценочные процедуры по инициативе ОО | D3: Всего | E3: Федеральные оценочные процедуры | F3: Оценочные процедуры по инициативе ОО | G3: Всего | H3: Федеральные оценочные процедуры | I3: Оценочные процедуры по инициативе ОО | J3: Всего | K3: Федеральные оценочные процедуры | L3: Оценочные процедуры по инициативе ОО | M3: Всего | N3: Федеральные оценочные процедуры | O3: Оценочные процедуры по инициативе ОО | P3: Всего | Q3: Во II полугодии 2025-2026 учебного года | R3: Всего оценочных процедур за 2025-2026 учебный год | S3: Кол-во часов по учебному плану | T3: Процентное соотношение кол-ва оценочных процедур к кол-ву часов УП, в %
A4: 5 классы
A5: Русский язык | C5: 1 | D5: =B5+C5 -> 1 | F5: 2 | G5: =E5+F5 -> 2 | I5: 1 | J5: =H5+I5 -> 1 | K5: 1 | L5: 3 | M5: =K5+L5 -> 4 | O5: 2 | P5: =N5+O5 -> 2 | Q5: =D5+G5+J5+M5+P5 -> 10 | R5: =Q5+'ООО 1 полугодие'!N5 -> 15 | S5: 170 | T5: =R5/S5 -> 0.088235294
A6: Литература | D6: =B6+C6 -> 0 | G6: =E6+F6 -> 0 | J6: =H6+I6 -> 0 | K6: 1 | M6: =K6+L6 -> 1 | O6: 1 | P6: =N6+O6 -> 1 | Q6: =D6+G6+J6+M6+P6 -> 2 | R6: =Q6+'ООО 1 полугодие'!N6 -> 4 | S6: 102 | T6: =R6/S6 -> 0.039215686
A7: Иностранный язык (английский) | C7: 1 | D7: =B7+C7 -> 1 | G7: =E7+F7 -> 0 | I7: 1 | J7: =H7+I7 -> 1 | K7: 1 | L7: 1 | M7: =K7+L7 -> 2 | O7: 1 | P7: =N7+O7 -> 1 | Q7: =D7+G7+J7+M7+P7 -> 5 | R7: =Q7+'ООО 1 полугодие'!N7 -> 10 | S7: 102 | T7: =R7/S7 -> 0.098039216
A8: Математика | C8: 1 | D8: =B8+C8 -> 1 | F8: 2 | G8: =E8+F8 -> 2 | I8: 2 | J8: =H8+I8 -> 2 | K8: 2 | L8: 1 | M8: =K8+L8 -> 3 | O8: 1 | P8: =N8+O8 -> 1 | Q8: =D8+G8+J8+M8+P8 -> 9 | R8: =Q8+'ООО 1 полугодие'!N8 -> 14 | S8: 170 | T8: =R8/S8 -> 0.082352941
A9: История | D9: =B9+C9 -> 0 | F9: 1 | G9: =E9+F9 -> 1 | J9: =H9+I9 -> 0 | K9: 1 | M9: =K9+L9 -> 1 | P9: =N9+O9 -> 0 | Q9: =D9+G9+J9+M9+P9 -> 2 | R9: =Q9+'ООО 1 полугодие'!N9 -> 3 | S9: 68 | T9: =R9/S9 -> 0.044117647
A10: География | D10: =B10+C10 -> 0 | G10: =E10+F10 -> 0 | J10: =H10+I10 -> 0 | K10: 2 | M10: =K10+L10 -> 2 | P10: =N10+O10 -> 0 | Q10: =D10+G10+J10+M10+P10 -> 2 | R10: =Q10+'ООО 1 полугодие'!N10 -> 3 | S10: 34 | T10: =R10/S10 -> 0.088235294
A11: Биология | D11: =B11+C11 -> 0 | G11: =E11+F11 -> 0 | J11: =H11+I11 -> 0 | K11: 2 | M11: =K11+L11 -> 2 | P11: =N11+O11 -> 0 | Q11: =D11+G11+J11+M11+P11 -> 2 | R11: =Q11+'ООО 1 полугодие'!N11 -> 3 | S11: 34 | T11: =R11/S11 -> 0.088235294
A12: Труд (технология) | D12: =B12+C12 -> 0 | G12: =E12+F12 -> 0 | J12: =H12+I12 -> 0 | M12: =K12+L12 -> 0 | O12: 1 | P12: =N12+O12 -> 1 | Q12: =D12+G12+J12+M12+P12 -> 1 | R12: =Q12+'ООО 1 полугодие'!N12 -> 2 | S12: 68 | T12: =R12/S12 -> 0.029411765
A13: Изобразительное искусство | D13: =B13+C13 -> 0 | G13: =E13+F13 -> 0 | J13: =H13+I13 -> 0 | M13: =K13+L13 -> 0 | O13: 1 | P13: =N13+O13 -> 1 | Q13: =D13+G13+J13+M13+P13 -> 1 | R13: =Q13+'ООО 1 полугодие'!N13 -> 2 | S13: 34 | T13: =R13/S13 -> 0.058823529
A14: Музыка | D14: =B14+C14 -> 0 | G14: =E14+F14 -> 0 | J14: =H14+I14 -> 0 | M14: =K14+L14 -> 0 | O14: 1 | P14: =N14+O14 -> 1 | Q14: =D14+G14+J14+M14+P14 -> 1 | R14: =Q14+'ООО 1 полугодие'!N14 -> 2 | S14: 34 | T14: =R14/S14 -> 0.058823529
A15: Физическая культура | D15: =B15+C15 -> 0 | G15: =E15+F15 -> 0 | J15: =H15+I15 -> 0 | M15: =K15+L15 -> 0 | O15: 1 | P15: =N15+O15 -> 1 | Q15: =D15+G15+J15+M15+P15 -> 1 | R15: =Q15+'ООО 1 полугодие'!N15 -> 2 | S15: 68 | T15: =R15/S15 -> 0.029411765
A16: 6 классы
A17: Русский язык | C17: 2 | D17: =B17+C17 -> 2 | F17: 2 | G17: =E17+F17 -> 2 | I17: 1 | J17: =H17+I17 -> 1 | K17: 1 | L17: 1 | M17: =K17+L17 -> 2 | O17: 3 | P17: =N17+O17 -> 3 | Q17: =D17+G17+J17+M17+P17 -> 10 | R17: =Q17+'ООО 1 полугодие'!N17 -> 16 | S17: 204 | T17: =R17/S17 -> 0.078431373
A18: Литература | D18: =B18+C18 -> 0 | G18: =E18+F18 -> 0 | J18: =H18+I18 -> 0 | K18: 1 | M18: =K18+L18 -> 1 | O18: 1 | P18: =N18+O18 -> 1 | Q18: =D18+G18+J18+M18+P18 -> 2 | R18: =Q18+'ООО 1 полугодие'!N18 -> 3 | S18: 102 | T18: =R18/S18 -> 0.029411765
A19: Иностранный язык (английский) | C19: 1 | D19: =B19+C19 -> 1 | F19: 1 | G19: =E19+F19 -> 1 | J19: =H19+I19 -> 0 | K19: 1 | M19: =K19+L19 -> 1 | O19: 2 | P19: =N19+O19 -> 2 | Q19: =D19+G19+J19+M19+P19 -> 5 | R19: =Q19+'ООО 1 полугодие'!N19 -> 10 | S19: 102 | T19: =R19/S19 -> 0.098039216
A20: Математика | C20: 2 | D20: =B20+C20 -> 2 | G20: =E20+F20 -> 0 | I20: 2 | J20: =H20+I20 -> 2 | K20: 2 | L20: 1 | M20: =K20+L20 -> 3 | O20: 2 | P20: =N20+O20 -> 2 | Q20: =D20+G20+J20+M20+P20 -> 9 | R20: =Q20+'ООО 1 полугодие'!N20 -> 13 | S20: 170 | T20: =R20/S20 -> 0.076470588
A21: История | D21: =B21+C21 -> 0 | G21: =E21+F21 -> 0 | I21: 1 | J21: =H21+I21 -> 1 | K21: 1 | M21: =K21+L21 -> 1 | P21: =N21+O21 -> 0 | Q21: =D21+G21+J21+M21+P21 -> 2 | R21: =Q21+'ООО 1 полугодие'!N21 -> 2 | S21: 68 | T21: =R21/S21 -> 0.029411765
A22: География | D22: =B22+C22 -> 0 | F22: 1 | G22: =E22+F22 -> 1 | J22: =H22+I22 -> 0 | K22: 2 | M22: =K22+L22 -> 2 | P22: =N22+O22 -> 0 | Q22: =D22+G22+J22+M22+P22 -> 3 | R22: =Q22+'ООО 1 полугодие'!N22 -> 3 | S22: 34 | T22: =R22/S22 -> 0.088235294
A23: Биология | D23: =B23+C23 -> 0 | G23: =E23+F23 -> 0 | J23: =H23+I23 -> 0 | K23: 2 | M23: =K23+L23 -> 2 | P23: =N23+O23 -> 0 | Q23: =D23+G23+J23+M23+P23 -> 2 | R23: =Q23+'ООО 1 полугодие'!N23 -> 2 | S23: 34 | T23: =R23/S23 -> 0.058823529
A24: Труд (технология) | D24: =B24+C24 -> 0 | G24: =E24+F24 -> 0 | J24: =H24+I24 -> 0 | M24: =K24+L24 -> 0 | O24: 1 | P24: =N24+O24 -> 1 | Q24: =D24+G24+J24+M24+P24 -> 1 | R24: =Q24+'ООО 1 полугодие'!N24 -> 1 | S24: 68 | T24: =R24/S24 -> 0.014705882
A25: Изобразительное искусство | D25: =B25+C25 -> 0 | G25: =E25+F25 -> 0 | J25: =H25+I25 -> 0 | M25: =K25+L25 -> 0 | O25: 1 | P25: =N25+O25 -> 1 | Q25: =D25+G25+J25+M25+P25 -> 1 | R25: =Q25+'ООО 1 полугодие'!N25 -> 1 | S25: 34 | T25: =R25/S25 -> 0.029411765
A26: Музыка | D26: =B26+C26 -> 0 | G26: =E26+F26 -> 0 | J26: =H26+I26 -> 0 | M26: =K26+L26 -> 0 | O26: 1 | P26: =N26+O26 -> 1 | Q26: =D26+G26+J26+M26+P26 -> 1 | R26: =Q26+'ООО 1 полугодие'!N26 -> 1 | S26: 34 | T26: =R26/S26 -> 0.029411765
A27: Физическая культура | D27: =B27+C27 -> 0 | G27: =E27+F27 -> 0 | J27: =H27+I27 -> 0 | M27: =K27+L27 -> 0 | O27: 1 | P27: =N27+O27 -> 1 | Q27: =D27+G27+J27+M27+P27 -> 1 | R27: =Q27+'ООО 1 полугодие'!N27 -> 1 | S27: 68 | T27: =R27/S27 -> 0.014705882
A28: 7 классы
A29: Русский язык | D29: =B29+C29 -> 0 | F29: 1 | G29: =E29+F29 -> 1 | I29: 1 | J29: =H29+I29 -> 1 | M29: =K29+L29 -> 0 | N29: 1 | O29: 1 | P29: =N29+O29 -> 2 | Q29: =D29+G29+J29+M29+P29 -> 4 | R29: =Q29+'ООО 1 полугодие'!N29 -> 12 | S29: 136 | T29: =R29/S29 -> 0.088235294
A30: Литература | C30: 1 | D30: =B30+C30 -> 1 | G30: =E30+F30 -> 0 | J30: =H30+I30 -> 0 | L30: 1 | M30: =K30+L30 -> 1 | N30: 1 | P30: =N30+O30 -> 1 | Q30: =D30+G30+J30+M30+P30 -> 3 | R30: =Q30+'ООО 1 полугодие'!N30 -> 3 | S30: 68 | T30: =R30/S30 -> 0.044117647
A31: Иностранный язык (английский) | C31: 1 | D31: =B31+C31 -> 1 | F31: 1 | G31: =E31+F31 -> 1 | I31: 1 | J31: =H31+I31 -> 1 | L31: 1 | M31: =K31+L31 -> 1 | N31: 1 | P31: =N31+O31 -> 1 | Q31: =D31+G31+J31+M31+P31 -> 5 | R31: =Q31+'ООО 1 полугодие'!N31 -> 10 | S31: 102 | T31: =R31/S31 -> 0.098039216
A32: Алгебра | C32: 1 | D32: =B32+C32 -> 1 | G32: =E32+F32 -> 0 | I32: 1 | J32: =H32+I32 -> 1 | L32: 2 | M32: =K32+L32 -> 2 | N32: 2 | P32: =N32+O32 -> 2 | Q32: =D32+G32+J32+M32+P32 -> 6 | R32: =Q32+'ООО 1 полугодие'!N32 -> 7 | S32: 102 | T32: =R32/S32 -> 0.068627451
A33: Геометрия | C33: 1 | D33: =B33+C33 -> 1 | G33: =E33+F33 -> 0 | I33: 1 | J33: =H33+I33 -> 1 | L33: 1 | M33: =K33+L33 -> 1 | O33: 1 | P33: =N33+O33 -> 1 | Q33: =D33+G33+J33+M33+P33 -> 4 | R33: =Q33+'ООО 1 полугодие'!N33 -> 4 | S33: 68 | T33: =R33/S33 -> 0.058823529
A34: Вероятность и статистика | D34: =B34+C34 -> 0 | G34: =E34+F34 -> 0 | J34: =H34+I34 -> 0 | M34: =K34+L34 -> 0 | O34: 1 | P34: =N34+O34 -> 1 | Q34: =D34+G34+J34+M34+P34 -> 1 | R34: =Q34+'ООО 1 полугодие'!N34 -> 2 | S34: 34 | T34: =R34/S34 -> 0.058823529
A35: История | D35: =B35+C35 -> 0 | G35: =E35+F35 -> 0 | J35: =H35+I35 -> 0 | L35: 1 | M35: =K35+L35 -> 1 | N35: 1 | P35: =N35+O35 -> 1 | Q35: =D35+G35+J35+M35+P35 -> 2 | R35: =Q35+'ООО 1 полугодие'!N35 -> 2 | S35: 68 | T35: =R35/S35 -> 0.029411765
A36: География | D36: =B36+C36 -> 0 | F36: 1 | G36: =E36+F36 -> 1 | J36: =H36+I36 -> 0 | L36: 1 | M36: =K36+L36 -> 1 | N36: 2 | P36: =N36+O36 -> 2 | Q36: =D36+G36+J36+M36+P36 -> 4 | R36: =Q36+'ООО 1 полугодие'!N36 -> 4 | S36: 68 | T36: =R36/S36 -> 0.058823529
A37: Биология | D37: =B37+C37 -> 0 | G37: =E37+F37 -> 0 | J37: =H37+I37 -> 0 | M37: =K37+L37 -> 0 | N37: 2 | P37: =N37+O37 -> 2 | Q37: =D37+G37+J37+M37+P37 -> 2 | R37: =Q37+'ООО 1 полугодие'!N37 -> 2 | S37: 34 | T37: =R37/S37 -> 0.058823529
A38: Труд (технология) | D38: =B38+C38 -> 0 | G38: =E38+F38 -> 0 | J38: =H38+I38 -> 0 | M38: =K38+L38 -> 0 | O38: 1 | P38: =N38+O38 -> 1 | Q38: =D38+G38+J38+M38+P38 -> 1 | R38: =Q38+'ООО 1 полугодие'!N38 -> 1 | S38: 68 | T38: =R38/S38 -> 0.014705882
A39: Информатика | D39: =B39+C39 -> 0 | F39: 1 | G39: =E39+F39 -> 1 | J39: =H39+I39 -> 0 | M39: =K39+L39 -> 0 | N39: 2 | P39: =N39+O39 -> 2 | Q39: =D39+G39+J39+M39+P39 -> 3 | R39: =Q39+'ООО 1 полугодие'!N39 -> 3 | S39: 34 | T39: =R39/S39 -> 0.088235294
A40: Физика | D40: =B40+C40 -> 0 | G40: =E40+F40 -> 0 | J40: =H40+I40 -> 0 | M40: =K40+L40 -> 0 | N40: 2 | O40: 1 | P40: =N40+O40 -> 3 | Q40: =D40+G40+J40+M40+P40 -> 3 | R40: =Q40+'ООО 1 полугодие'!N40 -> 5 | S40: 68 | T40: =R40/S40 -> 0.073529412
...

Sheet СОО 1 полугодие

Sheet СОО 2 полугодие
